BEGIN:VCALENDAR
VERSION:2.0
PRODID:-//Grundschule Emil Ufer Olbersdorf//Einzeltermin//DE
CALSCALE:GREGORIAN
METHOD:PUBLISH
X-WR-CALNAME:Grundschule Emil Ufer Olbersdorf - Termin
X-WR-CALDESC:Einzeltermin der Grundschule Emil Ufer Olbersdorf
X-WR-TIMEZONE:Europe/Berlin
BEGIN:VTIMEZONE
TZID:Europe/Berlin
BEGIN:DAYLIGHT
TZOFFSETFROM:+0100
TZOFFSETTO:+0200
TZNAME:CEST
DTSTART:19700329T020000
RRULE:FREQ=YEARLY;BYMONTH=3;BYDAY=-1SU
END:DAYLIGHT
BEGIN:STANDARD
TZOFFSETFROM:+0200
TZOFFSETTO:+0100
TZNAME:CET
DTSTART:19701025T030000
RRULE:FREQ=YEARLY;BYMONTH=10;BYDAY=-1SU
END:STANDARD
END:VTIMEZONE
BEGIN:VEVENT
UID:4abb23ba-c66d-4367-8f2f-1f2f4f0218a1@grundschule.olbersdorf.de
DTSTAMP:20260423T200117Z
DTSTART;VALUE=DATE:20260512
DTEND;VALUE=DATE:20260513
SUMMARY:Kuchenfuhre
DESCRIPTION:Am 12.05.2026 ist es soweit: Die Kuchenfuhre rollt ab 14 Uhr durch Olbersdorf. 
CATEGORIES:Schulprojekt
LOCATION:Grundschule Emil Ufer Olbersdorf
ORGANIZER;CN=Grundschule Emil Ufer Olbersdorf:mailto:sekretariat@grundschule.olbersdorf.de
STATUS:CONFIRMED
TRANSP:OPAQUE
END:VEVENT
END:VCALENDAR